BEGIN:VCALENDAR
VERSION:2.0
PRODID:-//Dispro Owner&#039;s Association - ECPv6.15.20//NONSGML v1.0//EN
CALSCALE:GREGORIAN
METHOD:PUBLISH
X-WR-CALNAME:Dispro Owner&#039;s Association
X-ORIGINAL-URL:https://disproboats.ca
X-WR-CALDESC:Events for Dispro Owner&#039;s Association
REFRESH-INTERVAL;VALUE=DURATION:PT1H
X-Robots-Tag:noindex
X-PUBLISHED-TTL:PT1H
BEGIN:VTIMEZONE
TZID:America/Toronto
BEGIN:DAYLIGHT
TZOFFSETFROM:-0500
TZOFFSETTO:-0400
TZNAME:EDT
DTSTART:20250309T070000
END:DAYLIGHT
BEGIN:STANDARD
TZOFFSETFROM:-0400
TZOFFSETTO:-0500
TZNAME:EST
DTSTART:20251102T060000
END:STANDARD
BEGIN:DAYLIGHT
TZOFFSETFROM:-0500
TZOFFSETTO:-0400
TZNAME:EDT
DTSTART:20260308T070000
END:DAYLIGHT
BEGIN:STANDARD
TZOFFSETFROM:-0400
TZOFFSETTO:-0500
TZNAME:EST
DTSTART:20261101T060000
END:STANDARD
BEGIN:DAYLIGHT
TZOFFSETFROM:-0500
TZOFFSETTO:-0400
TZNAME:EDT
DTSTART:20270314T070000
END:DAYLIGHT
BEGIN:STANDARD
TZOFFSETFROM:-0400
TZOFFSETTO:-0500
TZNAME:EST
DTSTART:20271107T060000
END:STANDARD
END:VTIMEZONE
BEGIN:VEVENT
DTSTART;TZID=America/Toronto:20260426T113000
DTEND;TZID=America/Toronto:20260515T150000
DTSTAMP:20260419T210437
CREATED:20260408T004454Z
LAST-MODIFIED:20260408T011952Z
UID:1217-1777203000-1778857200@disproboats.ca
SUMMARY:AGM - Coldwater Legion
DESCRIPTION:To be held at Coldwater Legion\, 2 Michael Anne Drive\, Coldwater \,Ontario \n$25.00 registration fee includes lunch. Details are in March Device. RSVP to Barb Dickson by Monday April 13\, 2026 \n905-628-8263
URL:https://disproboats.ca/event/agm-coldwater-legion/
CATEGORIES:Annual General Meeting
END:VEVENT
BEGIN:VEVENT
DTSTART;VALUE=DATE:20260613
DTEND;VALUE=DATE:20260614
DTSTAMP:20260419T210437
CREATED:20260408T005518Z
LAST-MODIFIED:20260408T011939Z
UID:1219-1781308800-1781395199@disproboats.ca
SUMMARY:UUMMT 58 - Honey Harbour\, Georgian Bay
DESCRIPTION:The Ottons will once again host an UNMMT in Honey Harbour.  Travel Hwy 400 and take Exit 156. Follow Muskoka Road 5 to the end.  The Honey Harbour Boat Club Marina is at 2709 Honey Harbour Road.  Departure will take place at 10:00 am for a tour of the islands with different routes from last year.  Valerie will provide a homemade lunch and refreshments. \nPlease RSVP to Valerie at billvalotton@gmail.com
URL:https://disproboats.ca/event/uummt-58-honey-harbour-georgian-bay/
CATEGORIES:UUMMT
END:VEVENT
BEGIN:VEVENT
DTSTART;VALUE=DATE:20260711
DTEND;VALUE=DATE:20260712
DTSTAMP:20260419T210437
CREATED:20260408T010415Z
LAST-MODIFIED:20260408T010415Z
UID:1226-1783728000-1783814399@disproboats.ca
SUMMARY:ACBS Boat Show - Gravenhurst
DESCRIPTION:The DOA will again be in attendance with our usual tent display.  Anyone who is able to spend a couple of hours at the display answering questions and generally promoting the joys of Dispros\, please contact a member of the executive.
URL:https://disproboats.ca/event/acbs-boat-show-gravenhurst-2/
END:VEVENT
BEGIN:VEVENT
DTSTART;VALUE=DATE:20260718
DTEND;VALUE=DATE:20260719
DTSTAMP:20260419T210437
CREATED:20260408T010655Z
LAST-MODIFIED:20260408T011852Z
UID:1228-1784332800-1784419199@disproboats.ca
SUMMARY:UUMMT 59 - Lale Vernon and the Big East River\, Huntsville
DESCRIPTION:Further details and launch location to follow in next Device
URL:https://disproboats.ca/event/uummt-59-lale-vernon-and-the-big-east-river-huntsville/
CATEGORIES:UUMMT
END:VEVENT
BEGIN:VEVENT
DTSTART;VALUE=DATE:20260913
DTEND;VALUE=DATE:20260916
DTSTAMP:20260419T210437
CREATED:20260408T011700Z
LAST-MODIFIED:20260408T011700Z
UID:1230-1789257600-1789516799@disproboats.ca
SUMMARY:Annual Regatta - Severn Lodge - Gloucester Pool
DESCRIPTION:Please note:  This is a Sunday to Tuesday event and not the usual Friday to Sunday as in previous years.  Also remember one can still attend if you don’t have a boat yet or don’t wish to bring your boat\, but want to simply enjoy the socializing.  Please refer to the March 2026 issue of the Device for full details.  It is also an Auction Year again\, so start gathering now!
URL:https://disproboats.ca/event/annual-regatta-severn-lodge-gloucester-pool/
CATEGORIES:Regatta
END:VEVENT
END:VCALENDAR